BEGIN:VCALENDAR
VERSION:2.0
PRODID:-//wp-events-plugin.com//7.2.3.1//EN
BEGIN:VEVENT
UID:15360@liguecentrett.com
DTSTART:20251118T183000Z
DTEND:20251118T193000Z
DTSTAMP:20251106T122520Z
URL:https://liguecentrett.com/events/webinaire-formations-diplomes-emplois
 /
SUMMARY:Webinaire : Quelles formations pour quel emploi\, les différents d
 iplômes\, les différents emplois !
DESCRIPTION:« Quelles formations pour quel emploi\, les différents diplô
 mes\, les différents emplois ! »\n\nPour s'orienter\, recruter en fonct
 ion de ses besoins\, il faut des formations et diplômes adaptés\n\nLien 
 d’inscription : FFTT / LCVL TT Webinaire 2025-2026\n\nREMPLIR LE FORMU
 LAIRE\n\nNous vous attendons nombreuses et nombreux ! Inscrivez-vous vite
  !
ATTACH;FMTTYPE=image/jpeg:https://liguecentrett.com/wp-content/uploads/202
 5/07/webinaire.png
CATEGORIES:Formations Dirigeants
END:VEVENT
END:VCALENDAR