BEGIN:VCALENDAR
VERSION:2.0
PRODID:-//wp-events-plugin.com//7.2.3.1//EN
BEGIN:VEVENT
UID:15339@liguecentrett.com
DTSTART:20251119T183000Z
DTEND:20251119T193000Z
DTSTAMP:20251106T122549Z
URL:https://liguecentrett.com/events/webinaire-de-lentretien-annuel-au-pla
 n-de-formation-et-a-la-remuneration/
SUMMARY:Webinaire : De l'entretien annuel au plan de formation et à la ré
 munération
DESCRIPTION:De l'entretien annuel au plan de formation et à la rémunérat
 ion\n\n&nbsp\;\n\nLien d’inscription : FFTT / LCVL TT Webinaire 2025-2
 026\n\nREMPLIR LE FORMULAIRE\n\nNous vous attendons nombreuses et nombreux
  ! Inscrivez-vous vite !
ATTACH;FMTTYPE=image/jpeg:https://liguecentrett.com/wp-content/uploads/202
 5/07/webinaire.png
CATEGORIES:Formations Dirigeants
END:VEVENT
END:VCALENDAR