BEGIN:VCALENDAR
VERSION:2.0
PRODID:-//wp-events-plugin.com//7.2.3.1//EN
BEGIN:VEVENT
UID:15361@liguecentrett.com
DTSTART:20251120T183000Z
DTEND:20251120T193000Z
DTSTAMP:20251106T122344Z
URL:https://liguecentrett.com/events/webinaire-creer-financer-un-emploi-mo
 dele-economique/
SUMMARY:Webinaire : Créer et financer un emploi en lien avec le modèle é
 conomique
DESCRIPTION:« Créer et financer un emploi en lien avec le modèle économ
 ique »\n\nIl existe plusieurs possibilités de créer et perenniser un e
 mploi en lien avec les spécificités de sa structure\n\nLien d’inscript
 ion : FFTT / LCVL TT Webinaire 2025-2026\n\nREMPLIR LE FORMULAIRE\n\nNou
 s vous attendons nombreuses et nombreux ! Inscrivez-vous vite !
ATTACH;FMTTYPE=image/jpeg:https://liguecentrett.com/wp-content/uploads/202
 5/07/webinaire.png
CATEGORIES:Formations Dirigeants
END:VEVENT
END:VCALENDAR