BEGIN:VCALENDAR
VERSION:2.0
PRODID:-//wp-events-plugin.com//7.2.3.1//EN
BEGIN:VEVENT
UID:14816@liguecentrett.com
DTSTART:20260202T183000Z
DTEND:20260202T193000Z
DTSTAMP:20250905T205408Z
URL:https://liguecentrett.com/events/webinaire-budget-previsionnel/
SUMMARY:Webinaire : Le budget prévisionnel
DESCRIPTION:Budget Prévisionnel\n\n"Comment établir un budget prévisionn
 el\, quelle méthodologie pour ne rien oublier ? comment valoriser les él
 éments que l'on me donne ? un budget prévisionnel doit-il être équilib
 ré ? Autant de thèmes qui seront abordés lors de ce webinaire  "\n\n&n
 bsp\;\n\nLe lien pour l'inscription : LCVL TT Webinaires 2025-2026
ATTACH;FMTTYPE=image/jpeg:https://liguecentrett.com/wp-content/uploads/202
 5/07/webinaire.png
CATEGORIES:Formations Dirigeants
END:VEVENT
END:VCALENDAR