BEGIN:VCALENDAR
VERSION:2.0
PRODID:-//wp-events-plugin.com//7.2.3.1//EN
BEGIN:VEVENT
UID:15011@liguecentrett.com
DTSTART;VALUE=DATE:20240101
DTEND;VALUE=DATE:20240201
DTSTAMP:20240101T053539Z
URL:https://liguecentrett.com/events/une-annee-aux-couleurs-olympiques/
SUMMARY:Une année aux couleurs olympiques
DESCRIPTION:Très Bonne Année des cinq couleurs de nos Jeux\n\n[su_youtube
  url="https://youtu.be/b7ofpwess4U?si=PND1_iJqEKkLnBrb"]
ATTACH;FMTTYPE=image/jpeg:https://liguecentrett.com/wp-content/uploads/202
 3/12/Video-voeux-Ligue-TT-VF.jpg
CATEGORIES:Actualités
LOCATION:Ligue Centre-Val de Loire TT\, 40 rue du Général Leclerc\, Salbr
 is\, France
GEO:47.420209;2.043381
X-APPLE-STRUCTURED-LOCATION;VALUE=URI;X-ADDRESS=40 rue du Général Leclerc
 \, Salbris\, France;X-APPLE-RADIUS=100;X-TITLE=Ligue Centre-Val de Loire T
 T:geo:47.420209,2.043381
END:VEVENT
END:VCALENDAR