BEGIN:VCALENDAR
VERSION:2.0
PRODID:-//wp-events-plugin.com//7.2.3.1//EN
BEGIN:VEVENT
UID:15343@liguecentrett.com
DTSTART;VALUE=DATE:20251102
DTEND;VALUE=DATE:20251103
DTSTAMP:20250922T080819Z
URL:https://liguecentrett.com/events/tournoi-us-orleans-2025/
SUMMARY:Tournoi US Orléans 2025
DESCRIPTION:\nRèglement / Inscriptions
ATTACH;FMTTYPE=image/jpeg:https://liguecentrett.com/wp-content/uploads/202
 0/10/Tournois-carré.png
CATEGORIES:Compétitions,Tournoi
LOCATION:US Orléans\, 11 Rue Jeanne Jugan\, Orléans\, Loiret\, 45000\, Ce
 ntre Val de Loire\, France
X-APPLE-STRUCTURED-LOCATION;VALUE=URI;X-ADDRESS=11 Rue Jeanne Jugan\, Orlé
 ans\, Loiret\, 45000\, Centre Val de Loire\, France;X-APPLE-RADIUS=100;X-T
 ITLE=US Orléans:geo:0,0
END:VEVENT
END:VCALENDAR