BEGIN:VCALENDAR
VERSION:2.0
PRODID:-//wp-events-plugin.com//7.2.3.1//EN
BEGIN:VEVENT
UID:15224@liguecentrett.com
DTSTART;VALUE=DATE:20250607
DTEND;VALUE=DATE:20250609
DTSTAMP:20241217T072742Z
URL:https://liguecentrett.com/events/tournoi-regional-parcay-meslay-2/
SUMMARY:Tournoi Régional Parçay Meslay
DESCRIPTION:
ATTACH;FMTTYPE=image/jpeg:https://liguecentrett.com/wp-content/uploads/202
 0/12/Tournois.png
CATEGORIES:Compétitions,Tournoi
LOCATION:TT Parçay-Meslay\, rue des Sports\, Parçay-Meslay\, 37210\, Fran
 ce
GEO:47.441428;0.74182
X-APPLE-STRUCTURED-LOCATION;VALUE=URI;X-ADDRESS=rue des Sports\, Parçay-Me
 slay\, 37210\, France;X-APPLE-RADIUS=100;X-TITLE=TT Parçay-Meslay:geo:47.
 441428,0.74182
END:VEVENT
END:VCALENDAR