BEGIN:VCALENDAR
VERSION:2.0
PRODID:-//wp-events-plugin.com//7.2.3.1//EN
BEGIN:VEVENT
UID:15020@liguecentrett.com
DTSTART:20240518T083000Z
DTEND:20240519T200000Z
DTSTAMP:20240513T160712Z
URL:https://liguecentrett.com/events/tournoi-regional-ludovic-bayart-du-tt
 -parcay-meslay/
SUMMARY:Tournoi Régional Ludovic Bayart du TT Parçay Meslay
DESCRIPTION:\nRèglement-29-Tournoi PARCAY-MESLAY
ATTACH;FMTTYPE=image/jpeg:https://liguecentrett.com/wp-content/uploads/202
 0/10/Tournois-carré.png
CATEGORIES:Tournoi
LOCATION:TT Parçay-Meslay\, rue des Sports\, Parçay-Meslay\, 37210\, Fran
 ce
GEO:47.441428;0.74182
X-APPLE-STRUCTURED-LOCATION;VALUE=URI;X-ADDRESS=rue des Sports\, Parçay-Me
 slay\, 37210\, France;X-APPLE-RADIUS=100;X-TITLE=TT Parçay-Meslay:geo:47.
 441428,0.74182
END:VEVENT
END:VCALENDAR