BEGIN:VCALENDAR
VERSION:2.0
PRODID:-//wp-events-plugin.com//7.2.3.1//EN
BEGIN:VEVENT
UID:14978@liguecentrett.com
DTSTART;VALUE=DATE:20231028
DTEND;VALUE=DATE:20231030
DTSTAMP:20231003T061359Z
URL:https://liguecentrett.com/events/tournoi-regional-la-riche-2023/
SUMMARY:Tournoi régional La Riche 2023
DESCRIPTION:L’US La Riche Tennis de Table organise son traditionnel tourn
 oi régional homologué les samedi 28 et dimanche 29 octobre 2023 .\n\n&nb
 sp\;\n\nJe vous remercie de diffuser à vos adhérents : Affiche + infos\n
 \n&nbsp\;\n\nInscription obligatoire par mail ou SMS (cf affiche jointe)\n
 \n&nbsp\;\n\nBuvette tombola et restauration sur place ! (carte bleue acce
 ptée)\n\n&nbsp\;\n\nAu plaisir de partager avec vous de belles journées 
 de ping\n\n&nbsp\;\n\nBien cordialement\n\n&nbsp\;\n\nThierry DESMEE\n\nPr
 ésident\n\nUS LA RICHE Tennis de Table\n\n07 80 59 22 11
ATTACH;FMTTYPE=image/jpeg:https://liguecentrett.com/wp-content/uploads/202
 0/12/Tournois.png
CATEGORIES:Compétitions
LOCATION:US LA RICHE\, RUE PAUL BERT\, LA RICHE\, CENTRE VAL DE LOIRE\, 375
 20\, CENTRE VAL DE LOIRE\, France
X-APPLE-STRUCTURED-LOCATION;VALUE=URI;X-ADDRESS=RUE PAUL BERT\, LA RICHE\, 
 CENTRE VAL DE LOIRE\, 37520\, CENTRE VAL DE LOIRE\, France;X-APPLE-RADIUS=
 100;X-TITLE=US LA RICHE:geo:0,0
END:VEVENT
END:VCALENDAR