BEGIN:VCALENDAR
VERSION:2.0
PRODID:-//wp-events-plugin.com//7.2.3.1//EN
BEGIN:VEVENT
UID:14829@liguecentrett.com
DTSTART;VALUE=DATE:20260118
DTEND;VALUE=DATE:20260119
DTSTAMP:20251117T095253Z
URL:https://liguecentrett.com/events/tournoi-regional-fleury-les-aubrais/
SUMMARY:Tournoi Régional Fleury Les Aubrais 2026
DESCRIPTION:\n&nbsp\;\nAffiche tournoi 2026- 18-01-26\nRèglement tournoi r
 égional 2026 - 18-01-26
ATTACH;FMTTYPE=image/jpeg:https://liguecentrett.com/wp-content/uploads/202
 0/12/Tournois.png
CATEGORIES:Compétitions
END:VEVENT
END:VCALENDAR