BEGIN:VCALENDAR
VERSION:2.0
PRODID:-//wp-events-plugin.com//7.2.3.1//EN
BEGIN:VEVENT
UID:15005@liguecentrett.com
DTSTART;VALUE=DATE:20240107
DTEND;VALUE=DATE:20240108
DTSTAMP:20231214T095436Z
URL:https://liguecentrett.com/events/tournoi-regional-deols-2024/
SUMMARY:Tournoi régional Déols 2024
DESCRIPTION:\n\nRèglement Tournoi 2023 2024
ATTACH;FMTTYPE=image/jpeg:https://liguecentrett.com/wp-content/uploads/202
 0/12/Tournois.png
CATEGORIES:Compétitions
LOCATION:CTT Déols\, Avenue Paul Langevin\, Déols\, France
GEO:46.82473;1.705613
X-APPLE-STRUCTURED-LOCATION;VALUE=URI;X-ADDRESS=Avenue Paul Langevin\, Déo
 ls\, France;X-APPLE-RADIUS=100;X-TITLE=CTT Déols:geo:46.82473,1.705613
END:VEVENT
END:VCALENDAR