BEGIN:VCALENDAR
VERSION:2.0
PRODID:-//wp-events-plugin.com//7.2.3.1//EN
BEGIN:VEVENT
UID:15007@liguecentrett.com
DTSTART;VALUE=DATE:20240114
DTEND;VALUE=DATE:20240115
DTSTAMP:20231214T104025Z
URL:https://liguecentrett.com/events/tournoi-regional-cjf-les-aubrais-2024
 /
SUMMARY:Tournoi régional CJF les Aubrais 2024
DESCRIPTION:\n\n&nbsp\;\n\nrèglement tournoi régional 2024
ATTACH;FMTTYPE=image/jpeg:https://liguecentrett.com/wp-content/uploads/202
 0/12/Tournois.png
CATEGORIES:Compétitions
LOCATION:CJF les Aubrais TT\, 105 rue des Fossés\, Fleury les Aubrais\, Fr
 ance
GEO:47.93024;1.92628
X-APPLE-STRUCTURED-LOCATION;VALUE=URI;X-ADDRESS=105 rue des Fossés\, Fleur
 y les Aubrais\, France;X-APPLE-RADIUS=100;X-TITLE=CJF les Aubrais TT:geo:4
 7.93024,1.92628
END:VEVENT
END:VCALENDAR