BEGIN:VCALENDAR
VERSION:2.0
PRODID:-//wp-events-plugin.com//7.2.3.1//EN
BEGIN:VEVENT
UID:14887@liguecentrett.com
DTSTART;VALUE=DATE:20250920
DTEND;VALUE=DATE:20250922
DTSTAMP:20250721T144237Z
URL:https://liguecentrett.com/events/tournoi-national-b-pays-courvillois-2
 025/
SUMMARY:Tournoi National B Pays Courvillois 2025
DESCRIPTION:Règlement 2025\n\n&nbsp\;\n\nInscription
ATTACH;FMTTYPE=image/jpeg:https://liguecentrett.com/wp-content/uploads/202
 0/12/Tournois.png
CATEGORIES:Compétitions,Tournoi
LOCATION:Pays Courvillois TT\, rue Jules Ferry\, Fontaine-la-Guyon\, France
GEO:48.4727939;1.3206890999999814
X-APPLE-STRUCTURED-LOCATION;VALUE=URI;X-ADDRESS=rue Jules Ferry\, Fontaine-
 la-Guyon\, France;X-APPLE-RADIUS=100;X-TITLE=Pays Courvillois TT:geo:48.47
 27939,1.3206890999999814
END:VEVENT
END:VCALENDAR