BEGIN:VCALENDAR
VERSION:2.0
PRODID:-//wp-events-plugin.com//7.2.3.1//EN
BEGIN:VEVENT
UID:14916@liguecentrett.com
DTSTART;VALUE=DATE:20250906
DTEND;VALUE=DATE:20250908
DTSTAMP:20250721T144317Z
URL:https://liguecentrett.com/events/tournoi-national-b-olivet-2025/
SUMMARY:Tournoi National B Olivet 2025
DESCRIPTION:\n\nVous l'attendiez\, tout est là : https://olivet-tt.fr/tour
 noi\n\n\n\n\n\n\nN'hésitez pas à partager.\n\n
ATTACH;FMTTYPE=image/jpeg:https://liguecentrett.com/wp-content/uploads/202
 0/12/Tournois.png
CATEGORIES:Compétitions,Tournoi
END:VEVENT
END:VCALENDAR