BEGIN:VCALENDAR
VERSION:2.0
PRODID:-//wp-events-plugin.com//7.2.3.1//EN
BEGIN:VEVENT
UID:14953@liguecentrett.com
DTSTART;VALUE=DATE:20231028
DTEND;VALUE=DATE:20231030
DTSTAMP:20230810T121115Z
URL:https://liguecentrett.com/events/tournoi-national-b-la-loupe-2023/
SUMMARY:Tournoi national B la Loupe 2023
DESCRIPTION:Le SLTT programme son traditionnel tournoi national les samedi 
 28 et dimanche 29 octobre 2023 (milieu des vacances de la Toussaint). Vous
  trouverez ci-dessus le règlement détaillé. Voici également le lien po
 ur l'inscription en ligne\, via un googleform (mode d'inscription à utili
 ser de préférence) :\nhttps://forms.gle/DEnBurw27G7LDtqPA\n\n\n\n\n\n\n\
 n\n\n
ATTACH;FMTTYPE=image/jpeg:https://liguecentrett.com/wp-content/uploads/202
 0/12/Tournois.png
CATEGORIES:Compétitions
LOCATION:Stade Loupéen TT\, Parc du Chateau\, La Loupe\, France
GEO:48.436985;0.982769
X-APPLE-STRUCTURED-LOCATION;VALUE=URI;X-ADDRESS=Parc du Chateau\, La Loupe\
 , France;X-APPLE-RADIUS=100;X-TITLE=Stade Loupéen TT:geo:48.436985,0.9827
 69
END:VEVENT
END:VCALENDAR