BEGIN:VCALENDAR
VERSION:2.0
PRODID:-//wp-events-plugin.com//7.2.3.1//EN
BEGIN:VEVENT
UID:14857@liguecentrett.com
DTSTART;VALUE=DATE:20260514
DTEND;VALUE=DATE:20260515
DTSTAMP:20260310T193634Z
URL:https://liguecentrett.com/events/tournoi-national-b-la-berrichonne-cha
 teauroux-tt-2026/
SUMMARY:Tournoi national B La Berrichonne Châteauroux TT 2026
DESCRIPTION:\n\ninscrip-tournoi-2026\n\n&nbsp\;\n\nTOURNOI NATIONAL B DE LA
  BERRICHONNE TENNIS DE TABLE
ATTACH;FMTTYPE=image/jpeg:https://liguecentrett.com/wp-content/uploads/202
 3/03/Affiche-LBC-Tournoi-2026.jpg
CATEGORIES:Compétitions,Tournoi
LOCATION:La Berrichonne Châteauroux TT\, 10 Allée de Beaumarchais\, Chât
 eauroux\, France
GEO:46.79672;1.723612
X-APPLE-STRUCTURED-LOCATION;VALUE=URI;X-ADDRESS=10 Allée de Beaumarchais\,
  Châteauroux\, France;X-APPLE-RADIUS=100;X-TITLE=La Berrichonne Châteaur
 oux TT:geo:46.79672,1.723612
END:VEVENT
END:VCALENDAR