BEGIN:VCALENDAR
VERSION:2.0
PRODID:-//wp-events-plugin.com//7.2.3.1//EN
BEGIN:VEVENT
UID:15260@liguecentrett.com
DTSTART;VALUE=DATE:20250531
DTEND;VALUE=DATE:20250602
DTSTAMP:20250225T191955Z
URL:https://liguecentrett.com/events/tournoi-national-b-champhol/
SUMMARY:Tournoi National B Champhol
DESCRIPTION:
ATTACH;FMTTYPE=image/jpeg:https://liguecentrett.com/wp-content/uploads/202
 5/02/CHAMPHOL.jpg
CATEGORIES:Tournoi
LOCATION:champhol astt\, SALLE POLYVALENTE 22 RUE JEAN MOULIN\, champhol\, 
 eure et loir\, 28300\, centre val de Loire\, France
GEO:48.922499;-5.625
X-APPLE-STRUCTURED-LOCATION;VALUE=URI;X-ADDRESS=SALLE POLYVALENTE 22 RUE JE
 AN MOULIN\, champhol\, eure et loir\, 28300\, centre val de Loire\, France
 ;X-APPLE-RADIUS=100;X-TITLE=champhol astt:geo:48.922499,-5.625
END:VEVENT
END:VCALENDAR