BEGIN:VCALENDAR
VERSION:2.0
PRODID:-//wp-events-plugin.com//7.2.3.1//EN
BEGIN:VEVENT
UID:14869@liguecentrett.com
DTSTART;VALUE=DATE:20260502
DTEND;VALUE=DATE:20260504
DTSTAMP:20260304T131324Z
URL:https://liguecentrett.com/events/tournoi-national-b-2026-blois-ping-41
 /
SUMMARY:Tounoi National B 2026 - Blois Ping 41
DESCRIPTION:Le club de BLOIS PING 41 organise un TOURNOI NATIONAL B les S
 amedi 2 et Dimanche 3 MAI 2026.\n\nIl aura lieu au Gymnase Tabarly - Rue D
 uguay Trouin 41000 BLOIS\n\nVous trouverez ci-joints le règlement de ce t
 ournoi ainsi qu'une affiche.\n\n&nbsp\;\n\nrèglement tournoi 2026 v4 300
 62025
ATTACH;FMTTYPE=image/jpeg:https://liguecentrett.com/wp-content/uploads/202
 0/12/Tournois.png
CATEGORIES:Compétitions,Tournoi
LOCATION:Blois Ping 41\, rue Dugay Trouin\, Blois\, France
GEO:47.592345;1.300631
X-APPLE-STRUCTURED-LOCATION;VALUE=URI;X-ADDRESS=rue Dugay Trouin\, Blois\, 
 France;X-APPLE-RADIUS=100;X-TITLE=Blois Ping 41:geo:47.592345,1.300631
END:VEVENT
END:VCALENDAR