BEGIN:VCALENDAR
VERSION:2.0
PRODID:-//wp-events-plugin.com//7.2.3.1//EN
BEGIN:VEVENT
UID:15014@liguecentrett.com
DTSTART;VALUE=DATE:20240224
DTEND;VALUE=DATE:20240226
DTSTAMP:20240219T085740Z
URL:https://liguecentrett.com/events/tournoi-national-b-2024-de-saint-aver
 tin/
SUMMARY:Tournoi national B 2024 de Saint-Avertin
DESCRIPTION:\n\n\n\nCette année les inscriptions se font en ligne via la p
 lateforme Hello Asso. Voici le lien pour aller sur notre site.\nhttps://ww
 w.sas-tennisdetable.fr/tournoi-national-b-2/\n&nbsp\;
ATTACH;FMTTYPE=image/jpeg:https://liguecentrett.com/wp-content/uploads/202
 0/12/Tournois.png
CATEGORIES:Tournoi
LOCATION:gymnase Henri DEPIERRE (les Aubuis)\,  31 Rue Frédéric Joliot Cu
 rie\, Saint-Avertin\, France
GEO:47.346157;0.730845
X-APPLE-STRUCTURED-LOCATION;VALUE=URI;X-ADDRESS= 31 Rue Frédéric Joliot C
 urie\, Saint-Avertin\, France;X-APPLE-RADIUS=100;X-TITLE=gymnase Henri DEP
 IERRE (les Aubuis):geo:47.346157,0.730845
END:VEVENT
END:VCALENDAR