BEGIN:VCALENDAR
VERSION:2.0
PRODID:-//wp-events-plugin.com//7.2.3.1//EN
BEGIN:VEVENT
UID:14992@liguecentrett.com
DTSTART:20240225T090000Z
DTEND:20240225T170000Z
DTSTAMP:20241105T151333Z
URL:https://liguecentrett.com/events/tournoi-mini-pousse-2024/
SUMMARY:Tournoi des mini-pousses 2024
DESCRIPTION:[su_tabs]\n\n[su_tab title="Invitation"]\n\nFlyer tournoi mini-
 pousses\n\nTournoi-regional-des-mini-pousses-2024\n\nListe des Participant
 s\n\n[/su_tab]\n\n[su_tab title="Résultats/Compte-Rendu"]\n\nJuge Arbitre
  : Eric Dubéros assisté de Fabien Chapelle\n\nRésultats détaillés de 
 tous les tableaux\, parties ICI\n\nCompte Rendu du Délégué : /\n\n[/su_
 tab]\n[su_tab title="Photos"]\n\n\n\n[/su_tab]\n[/su_tabs]\n\n&nbsp\;\n\n&
 nbsp\;
ATTACH;FMTTYPE=image/jpeg:https://liguecentrett.com/wp-content/uploads/202
 3/11/tournoi-mini-pouss.png
CATEGORIES:Compétitions
LOCATION:4S Tours TT\, 54 rue Saint Francois\, Tours\, 37000\, France
GEO:47.3816435;0.6664290999999594
X-APPLE-STRUCTURED-LOCATION;VALUE=URI;X-ADDRESS=54 rue Saint Francois\, Tou
 rs\, 37000\, France;X-APPLE-RADIUS=100;X-TITLE=4S Tours TT:geo:47.3816435,
 0.6664290999999594
END:VEVENT
END:VCALENDAR