BEGIN:VCALENDAR
VERSION:2.0
PRODID:-//wp-events-plugin.com//7.2.3.1//EN
BEGIN:VEVENT
UID:14985@liguecentrett.com
DTSTART:20231110T190000Z
DTEND:20231110T234500Z
DTSTAMP:20231103T085353Z
URL:https://liguecentrett.com/events/tournoi-inter-entreprise-2023-a-saint
 -avertin/
SUMMARY:Tournoi inter-entreprise 2023 du SAS
DESCRIPTION:\n\nToutes les informations en cliquant ici : https://www.sas-t
 ennisdetable.fr/tournoi-inter-entreprises/\n\n\nLe club de Saint-Avertin S
 ports Tennis de Table reprend\, le rythme de ses manifestations.\nC'est po
 urquoi nous vous informons que le prochain tournoi inter-entreprises aura 
 lieu dans nos locaux le vendredi 10 novembre 2023. N'hésitez pas à diffu
 ser l'information  auprès de vos adhérents. Les inscriptions doivent no
 us parvenir avant le 6 novembre. Le but de cette manifestation est de fai
 re découvrir aux non-licencié(e)s notre sport de façon conviviale. Un c
 ocktail dinatoire\,compris dans le prix de l'inscription\, clôtura cette 
 manifestation\nFiche engagement Tournoi inter-entreprises 2023\n
CATEGORIES:Compétitions
LOCATION:St-Avertin Sports TT\, 31 rue Frédéric Joliot Curie\, Saint Aver
 tin\, Centre Val de Loire\, 37550\, centre val de loire\, France
GEO:47.346497;0.730606
X-APPLE-STRUCTURED-LOCATION;VALUE=URI;X-ADDRESS=31 rue Frédéric Joliot Cu
 rie\, Saint Avertin\, Centre Val de Loire\, 37550\, centre val de loire\, 
 France;X-APPLE-RADIUS=100;X-TITLE=St-Avertin Sports TT:geo:47.346497,0.730
 606
END:VEVENT
END:VCALENDAR