BEGIN:VCALENDAR
VERSION:2.0
PRODID:-//wp-events-plugin.com//7.2.3.1//EN
BEGIN:VEVENT
UID:14990@liguecentrett.com
DTSTART:20231123T083000Z
DTEND:20231123T163000Z
DTSTAMP:20231103T133952Z
URL:https://liguecentrett.com/events/tournoi-des-sixties/
SUMMARY:Tournoi des sixties
DESCRIPTION:\n\n&nbsp\;\nVoici le lien vers notre site pour consulter le r
 èglement et trouver la fiche d'inscription.\n\nhttps://www.sas-tennisdeta
 ble.fr/tournoi-des-sixties/
LOCATION:St-Avertin Sports TT\, 31 rue Frédéric Joliot Curie\, Saint Aver
 tin\, Centre Val de Loire\, 37550\, centre val de loire\, France
GEO:47.346497;0.730606
X-APPLE-STRUCTURED-LOCATION;VALUE=URI;X-ADDRESS=31 rue Frédéric Joliot Cu
 rie\, Saint Avertin\, Centre Val de Loire\, 37550\, centre val de loire\, 
 France;X-APPLE-RADIUS=100;X-TITLE=St-Avertin Sports TT:geo:47.346497,0.730
 606
END:VEVENT
END:VCALENDAR