BEGIN:VCALENDAR
VERSION:2.0
PRODID:-//wp-events-plugin.com//7.2.3.1//EN
BEGIN:VEVENT
UID:15100@liguecentrett.com
DTSTART;VALUE=DATE:20250112
DTEND;VALUE=DATE:20250113
DTSTAMP:20250114T100129Z
URL:https://liguecentrett.com/events/top-regional-detection-2025/
SUMMARY:Top Régional Détection 2025
DESCRIPTION:[su_tabs]\n\n[su_tab title="Convocation"]\n\nConvocation Top R
 égional Détection\n\nListe des joueurs titulaires et remplaçants sélec
 tionnés\n\nListe définitive des joueurs ayant confirmé leur participati
 on (MAJ 09/01/2025)\n\nComment confirmer sa présence ou se désister :\n\
 n[video width="1470" height="864" mp4="https://liguecentrett.com/wp-conten
 t/uploads/2024/06/Tuto-parents-TRD.mp4"][/video]\n\n[/su_tab]\n\n[su_tab t
 itle="Résultats - Photos (Crédit - Véronique MARCHET)"]\n\nTous les cla
 ssements\nRésultats et Photos\nLe Rapport du Juge Arbitre\nLe Rapport du 
 Délégué\n[/su_tab]\n\n[/su_tabs]
CATEGORIES:Compétitions
LOCATION:CMPJM Ingré\, Avenue de la Coudraye\, Ingré\, France
GEO:47.920843;1.835326
X-APPLE-STRUCTURED-LOCATION;VALUE=URI;X-ADDRESS=Avenue de la Coudraye\, Ing
 ré\, France;X-APPLE-RADIUS=100;X-TITLE=CMPJM Ingré:geo:47.920843,1.83532
 6
END:VEVENT
END:VCALENDAR