BEGIN:VCALENDAR
VERSION:2.0
PRODID:-//wp-events-plugin.com//7.2.3.1//EN
BEGIN:VEVENT
UID:14895@liguecentrett.com
DTSTART;VALUE=DATE:20240107
DTEND;VALUE=DATE:20240108
DTSTAMP:20240107T195801Z
URL:https://liguecentrett.com/events/top-regional-detection-2024/
SUMMARY:Top Régional Détection 2024
DESCRIPTION:[su_tabs]\n\n[su_tab title="Présentation"]\n\n\nClap  de fin 
 sur le TRD 2024 - Organisation bien huilée à la seconde près\nLes organ
 isateurs locaux de la 4S ont assuré pour l’accueil\, la restauration et
  l’animation !\nLe juge arbitre\, ses collègues et les arbitres sont à
  féliciter pour avoir géré les 180 parties!\nJean Paul Chilon avait ouv
 ert la journée en présentant ses vœux au nom de tous!\nBenjamin Ferré 
 et Philippe Lebon les co délégués ont tenu à remercier tous les prése
 nts !\nArnaud Avol en charge de la détection régionale était ravi du ni
 veau\, de l’ambiance et de certains résultats !\nAu moment des podiums 
 Bruno Simon avait troqué son habit de Secrétaire Général pour celui de
  speaker et annoncer le palmarès et les médaillés !\nLe vainqueur recev
 ait aussi une raquette en chocolat  réalisée par Léo Bardy - Macarel !
 \nDes tenues officielles Ligue CVL complétaient la dotation au plus grand
  bonheur des lauréats !\n2024 a bien débuté et est bien lancé\nPrésen
 tation Compétition\n\n[/su_tab]\n\n[su_tab title="Convocation"]\n\nCompé
 tition organisée pour le lancement des 70 ans de la 4S Tours - Cadeaux à
  chaque participant\nRestauration - Tombola "Platine des 70 ans"\n\nTable 
 de JA - Vivien Lançon\, Frédéric Martineau\, Alain Scolan et un Spidman
 \nArbitres -\n\nPREUX Marc - SIROT Alain - FARNABE Isabelle - RENARD Gér
 ôme - NERON Marc - BUTTIAUX Arthur -SABOURIN Manon - SABOURIN Thomas - ZO
 LOBODJEAN Eric - HARDOUIN Michel - LIGEARD Killian - RINGENWALD André - J
 OUTEUX Xavier - PORFIRIO José - MORALES Gerald - COUCHE Sylvain - RODRIG
 UES FERREIRA Clément - BURY Gérard -BOUTHIER Bintou - RUCKI Olivier\n\nL
 iste des Sélectionnés au 03 01 24\n\n&nbsp\;\n\n[/su_tab]\n\n[su_tab tit
 le="Résultats"]\n\nTous les classements\n\nSuivre la Compétition et les 
 résultats\nLe Rapport du Juge Arbitre - Vivien Lançon\nLe Rapport du Dé
 légué - Benjamin Ferré\n[/su_tab]\n[su_tab title="Photos"]\n\n\n\n\n\n\
 n[/su_tab]\n\n[/su_tabs]
CATEGORIES:Compétitions
LOCATION:4S Tours TT\, 54 rue Saint Francois\, Tours\, 37000\, France
GEO:47.3816435;0.6664290999999594
X-APPLE-STRUCTURED-LOCATION;VALUE=URI;X-ADDRESS=54 rue Saint Francois\, Tou
 rs\, 37000\, France;X-APPLE-RADIUS=100;X-TITLE=4S Tours TT:geo:47.3816435,
 0.6664290999999594
END:VEVENT
END:VCALENDAR