BEGIN:VCALENDAR
VERSION:2.0
PRODID:-//wp-events-plugin.com//7.2.3.1//EN
BEGIN:VEVENT
UID:14912@liguecentrett.com
DTSTART;VALUE=DATE:20240112
DTEND;VALUE=DATE:20240115
DTSTAMP:20230720T113543Z
URL:https://liguecentrett.com/events/top-16-u10-filles-et-garcons-2024/
SUMMARY:Top 16 U10 Filles et Garçons 2024
DESCRIPTION:Tous les résultats ici : Lien\n\nLe site de la compétition
CATEGORIES:Compétitions
LOCATION:Caudry TT\, Complexe Jacques Secrétin 237 rue henri barbusse\, Ca
 udry\, France
GEO:50.125127;3.398935
X-APPLE-STRUCTURED-LOCATION;VALUE=URI;X-ADDRESS=Complexe Jacques Secrétin 
 237 rue henri barbusse\, Caudry\, France;X-APPLE-RADIUS=100;X-TITLE=Caudry
  TT:geo:50.125127,3.398935
END:VEVENT
END:VCALENDAR