BEGIN:VCALENDAR
VERSION:2.0
PRODID:-//wp-events-plugin.com//7.2.3.1//EN
BEGIN:VEVENT
UID:15115@liguecentrett.com
DTSTART;VALUE=DATE:20250301
DTEND;VALUE=DATE:20250302
DTSTAMP:20250325T105111Z
URL:https://liguecentrett.com/events/titres-regionaux-veterans-2025/
SUMMARY:Titres Régionaux Vétérans 2025
DESCRIPTION:[su_tabs]\n\n[su_tab title="Convocation"]\n\n 	Circulaire\n 	Ho
 raire général\n 	Listes qualifies et remplaçants\n 	Etat des réponses 
 (23/02/2025)\n 	Listes définitives des participants (25/02/2025)\n 	Horai
 res pointage et compétition (25/02/2025)\n\n\n 	Pré-Engagements Chpt de 
 France Vétérans 2025 (GIEN - 45) : Obligatoire pour TOUS !\n\n&nbsp\;\n\
 n 	Mode d'emploi pour confirmation inscription :\n\n 	Le club:\n\n 	Sur vo
 tre espace club\, se rendre dans le menu "Sportifs" puis sélectionner "Co
 nfirm. inscriptions".\n\n\n 	Le joueur:\n\n 	Sur votre espace personnel\, 
 se rendre dans le menu "Epreuves" puis sélectionner "Inscriptions".\n\n\n
 \n\n\n&nbsp\;\n\n[/su_tab]\n\n[su_tab title="Résultats-Photos"]\n\nRésul
 tats SPID\n\nRésultats complets PDF (25/03/2025)\n\nCompte-rendu du Dél
 égué\n\n&nbsp\;\n\n\n\n[/su_tab]\n[/su_tabs]
ATTACH;FMTTYPE=image/jpeg:https://liguecentrett.com/wp-content/uploads/202
 4/06/6034990e-1481-495f-811d-8baad84dbd90.jpg
CATEGORIES:Compétitions,compétitions Regionales et Nationales
LOCATION:Pays Courvillois TT\, rue Jules Ferry\, Fontaine-la-Guyon\, France
GEO:48.4727939;1.3206890999999814
X-APPLE-STRUCTURED-LOCATION;VALUE=URI;X-ADDRESS=rue Jules Ferry\, Fontaine-
 la-Guyon\, France;X-APPLE-RADIUS=100;X-TITLE=Pays Courvillois TT:geo:48.47
 27939,1.3206890999999814
END:VEVENT
END:VCALENDAR