BEGIN:VCALENDAR
VERSION:2.0
PRODID:-//wp-events-plugin.com//7.2.3.1//EN
BEGIN:VEVENT
UID:14898@liguecentrett.com
DTSTART;VALUE=DATE:20240217
DTEND;VALUE=DATE:20240218
DTSTAMP:20240222T085250Z
URL:https://liguecentrett.com/events/titres-regionaux-veterans-2024/
SUMMARY:Titres Régionaux Vétérans 2024
DESCRIPTION:[su_tabs]\n\n[su_tab title="Convocation"]\n\n\n\n 	Convocation\
 n 	Listes qualifies et remplaçants\n 	Mode d'emploi pour confirmation ins
 cription\n\n&nbsp\;\n\n 	Listes définitives des participants (MAJ 14/02/2
 024 à 10h30)\n\n&nbsp\;\n\n&nbsp\;\n\n&nbsp\;\n\n&nbsp\;\n\n&nbsp\;\n\n&n
 bsp\;\n\n&nbsp\;\n\n&nbsp\;\n\n&nbsp\;\n\n[/su_tab]\n\n[su_tab title="Rés
 ultats-Photos"]\n\nRésultats et Photos (Drive)\n\nRésultats Complets (PD
 F)\n\n[/su_tab]\n[/su_tabs]
CATEGORIES:Compétitions
LOCATION:\, \, 
X-APPLE-STRUCTURED-LOCATION;VALUE=URI;X-ADDRESS=\, ;X-APPLE-RADIUS=100;X-TI
 TLE=:geo:0,0
END:VEVENT
END:VCALENDAR