BEGIN:VCALENDAR
VERSION:2.0
PRODID:-//wp-events-plugin.com//7.2.3.1//EN
BEGIN:VEVENT
UID:14896@liguecentrett.com
DTSTART;VALUE=DATE:20240224
DTEND;VALUE=DATE:20240225
DTSTAMP:20240310T093247Z
URL:https://liguecentrett.com/events/titres-regionaux-corpos-2024/
SUMMARY:Titres Régionaux Corpos 2024
DESCRIPTION:[su_tabs]\n\n&nbsp\;\n\n[su_tab title="Convocation"]\n\nConvoca
 tion Titres Régionaux Corpos\n\nRèglement Régionaux_Corpos\n\n[/su_tab
 ]\n\n[su_tab title="Résultats/Compte-Rendu"]\n\nRésultats détaillés de
  tous les tableaux\, parties et photos ICI\n\nRésultats Spid\n\nRapport d
 u Délégué - Jean Luc Barboza\nRapport du JA - Mickael Mandard\n\n[/su_t
 ab]\n[/su_tabs]
CATEGORIES:Compétitions
LOCATION:AMO Mer TT\, rue des Berthelottes \, Mer\, 41500\, France
GEO:47.69757;1.497638
X-APPLE-STRUCTURED-LOCATION;VALUE=URI;X-ADDRESS=rue des Berthelottes \, Mer
 \, 41500\, France;X-APPLE-RADIUS=100;X-TITLE=AMO Mer TT:geo:47.69757,1.497
 638
END:VEVENT
END:VCALENDAR