BEGIN:VCALENDAR
VERSION:2.0
PRODID:-//wp-events-plugin.com//7.2.3.1//EN
BEGIN:VEVENT
UID:15041@liguecentrett.com
DTSTART:20240511T170000Z
DTEND:20240511T184500Z
DTSTAMP:20240425T133456Z
URL:https://liguecentrett.com/events/table-ronde-fftt/
SUMMARY:Table Ronde FFTT
DESCRIPTION:A l'occasion des France Minimes-Juniors participez à ce moment
  d'échange avec le Président Fédéral - Gilles ERB\n\nDécouvrez l'invi
 tation ICI
ATTACH;FMTTYPE=image/jpeg:https://liguecentrett.com/wp-content/uploads/202
 4/04/erb.jpg
LOCATION:TT Joué\, Rue Jean Monnet\, Joué-lès-Tours\, France
GEO:47.339474;0.657129
X-APPLE-STRUCTURED-LOCATION;VALUE=URI;X-ADDRESS=Rue Jean Monnet\, Joué-lè
 s-Tours\, France;X-APPLE-RADIUS=100;X-TITLE=TT Joué:geo:47.339474,0.65712
 9
END:VEVENT
END:VCALENDAR