BEGIN:VCALENDAR
VERSION:2.0
PRODID:-//wp-events-plugin.com//7.2.3.1//EN
BEGIN:VEVENT
UID:15217@liguecentrett.com
DTSTART:20241026T140000Z
DTEND:20241026T173000Z
DTSTAMP:20241021T191959Z
URL:https://liguecentrett.com/events/spidd-v2-18/
SUMMARY:SPIDD V2 - 18
DESCRIPTION:Réservé aux JA2/JA3 pour vous former à SPIDD V2\n&nbsp\;\nJe
  m'inscris
CATEGORIES:Formations,Formations arbitres
LOCATION:Comité du Cher de Tennis de Table\, 1 rue Gaston Berger\, Bourges
 \, France
GEO:47.102763;2.426763
X-APPLE-STRUCTURED-LOCATION;VALUE=URI;X-ADDRESS=1 rue Gaston Berger\, Bourg
 es\, France;X-APPLE-RADIUS=100;X-TITLE=Comité du Cher de Tennis de Table:
 geo:47.102763,2.426763
END:VEVENT
END:VCALENDAR