BEGIN:VCALENDAR
VERSION:2.0
PRODID:-//wp-events-plugin.com//7.2.3.1//EN
BEGIN:VEVENT
UID:15017@liguecentrett.com
DTSTART:20240217T140000Z
DTEND:20240217T183000Z
DTSTAMP:20240122T075840Z
URL:https://liguecentrett.com/events/seminaire-j-a/
SUMMARY:Séminaire J.A.
DESCRIPTION:séminaire des cadres de l’arbitrage qui se tiendra le samedi
  17 février 2024 de 14H00 à 18h30 à la Maison des sports de Touraine-Ll
 dt Le bas champeigne- rue de l’Aviation 37210 PARCAY-MESLAY.\nTous les c
 adres de l’arbitrage (JA\, formateurs) sont invités à participer à ce
 tte réunion.\n\nL’ordre du jour de cette réunion :\n\n1 : Le rôle du 
 JA\n\n 	Avant la compétition\n\nPréparation\nVérification\n\n 	Pendant 
 la compétition\n\nGestion des litiges\nComportement des joueurs et consei
 lleurs\n\n 	Après la compétition\n\nRemonter des résultats\nRapport\n\n
 Monsieur Claude RAECKELBOOM président CFA\, nous fera l’honneur de part
 iciper à notre réunion.\n\nClaude interviendra et répondra à vos quest
 ions sur les différents points cités à l’ordre du jour.\n\nSi vous av
 ez des questions vous pouvez me les envoyer avant le 31 janvier que nous p
 réparions les réponses.\n\n2 : Geste 1er secours\n\nPour les JA qui n’
 ont pas encore suivi cette formation nous profiterons de ce regroupement p
 our organiser une formation de 2H sur les gestes de 1er secours.\n\nMerci 
 de bien vouloir me confirmer votre participation à ce séminaire ainsi qu
 'a la formation geste 1er secours avant le 31 janvier 2024.\n\nDans la mes
 ure du possible\, merci de privilégier le covoiturage pour votre déplace
 ment qui sera pris en charge par la Ligue Centre Val de Loire.\n\nPour vou
 s inscrire : https://framadate.org/JVisWVzTj8dzA5jM
ATTACH;FMTTYPE=image/jpeg:https://liguecentrett.com/wp-content/uploads/202
 3/07/formation.png
LOCATION:Comité d'Indre-et-Loire de Tennis de Table\, rue de l'Aviation\, 
 Parçay-Meslay\, 37210\, Centre Val de Loire\, France
GEO:47.438233;0.708758
X-APPLE-STRUCTURED-LOCATION;VALUE=URI;X-ADDRESS=rue de l'Aviation\, Parçay
 -Meslay\, 37210\, Centre Val de Loire\, France;X-APPLE-RADIUS=100;X-TITLE=
 Comité d'Indre-et-Loire de Tennis de Table:geo:47.438233,0.708758
END:VEVENT
END:VCALENDAR