BEGIN:VCALENDAR
VERSION:2.0
PRODID:-//wp-events-plugin.com//7.2.3.1//EN
BEGIN:VEVENT
UID:15001@liguecentrett.com
DTSTART:20231128T163000Z
DTEND:20231128T180000Z
DTSTAMP:20231204T085050Z
URL:https://liguecentrett.com/events/remise-du-kit-usep-36/
SUMMARY:Remise du kit USEP 36
DESCRIPTION:\n\nUne table une école\n\n&nbsp\;
CATEGORIES:Manifestation externe
LOCATION:Comité de l'Indre de Tennis de Table\, 89 allée des Platanes\, C
 hateauroux\, France
GEO:46.789361;1.696352
X-APPLE-STRUCTURED-LOCATION;VALUE=URI;X-ADDRESS=89 allée des Platanes\, Ch
 ateauroux\, France;X-APPLE-RADIUS=100;X-TITLE=Comité de l'Indre de Tennis
  de Table:geo:46.789361,1.696352
END:VEVENT
END:VCALENDAR