BEGIN:VCALENDAR
VERSION:2.0
PRODID:-//wp-events-plugin.com//7.2.3.1//EN
BEGIN:VEVENT
UID:15015@liguecentrett.com
DTSTART:20240219T100000Z
DTEND:20240219T170000Z
DTSTAMP:20240117T180610Z
URL:https://liguecentrett.com/events/regroupement-handisport-3-23-24/
SUMMARY:Regroupement handisport 3 - 23/24
DESCRIPTION:L'objectif du regroupement est de permettre à tous les licenci
 és handisport de se retrouver sur une journée d’entrainement. Cela don
 ne à chacun la possibilité de sortir de son lieu d’entraînement habit
 uel tout en découvrant d’autre pratiquant.\n\nCette journée doit favor
 iser les échanges entres sportifs mais aussi entre entraîneurs et surtou
 t de créer une dynamique de groupe autour du tennis de table sur la régi
 on Centre-Val de Loire.\nInformations\nInscription
CATEGORIES:Entraînement
LOCATION:CJM Bourges TT\, 135 Rue de Turly\, Bourges\, France
GEO:47.100025;2.419944
X-APPLE-STRUCTURED-LOCATION;VALUE=URI;X-ADDRESS=135 Rue de Turly\, Bourges\
 , France;X-APPLE-RADIUS=100;X-TITLE=CJM Bourges TT:geo:47.100025,2.419944
END:VEVENT
END:VCALENDAR