BEGIN:VCALENDAR
VERSION:2.0
PRODID:-//wp-events-plugin.com//7.2.3.1//EN
BEGIN:VEVENT
UID:15025@liguecentrett.com
DTSTART:20240317T170000Z
DTEND:20240317T200000Z
DTSTAMP:20240307T154550Z
URL:https://liguecentrett.com/events/pro-b-1-2-finale-tours-vs-roanne/
SUMMARY:Pro B 1/2 finale Tours vs Roanne
DESCRIPTION:
LOCATION:4S Tours TT\, 54 rue Saint Francois\, Tours\, 37000\, France
GEO:47.3816435;0.6664290999999594
X-APPLE-STRUCTURED-LOCATION;VALUE=URI;X-ADDRESS=54 rue Saint Francois\, Tou
 rs\, 37000\, France;X-APPLE-RADIUS=100;X-TITLE=4S Tours TT:geo:47.3816435,
 0.6664290999999594
END:VEVENT
END:VCALENDAR