BEGIN:VCALENDAR
VERSION:2.0
PRODID:-//wp-events-plugin.com//7.2.3.1//EN
BEGIN:VEVENT
UID:15234@liguecentrett.com
DTSTART:20241123T133000Z
DTEND:20241123T173000Z
DTSTAMP:20241122T154240Z
URL:https://liguecentrett.com/events/ping-au-feminin/
SUMMARY:PING au Féminin
DESCRIPTION:Une ville où toutes les rues ou presque portent un nom de femm
 e\, ne pouvait pas avoir un club qui ne réalise pas une action de dévelo
 ppement sur le Ping au Féminin...\n\nRendez vous ce 23 Novembre\; Nombreu
 ses animations et moments d'échange sympathique
ATTACH;FMTTYPE=image/jpeg:https://liguecentrett.com/wp-content/uploads/202
 4/11/Affiches-PING-FEMININ-ESVD-scaled.jpg
CATEGORIES:Manifestation externe
LOCATION:ES La Ville aux Dames TT\, 1 Ter rue Colette\, La-Ville-aux-Dames\
 , France
GEO:47.397626;0.7708
X-APPLE-STRUCTURED-LOCATION;VALUE=URI;X-ADDRESS=1 Ter rue Colette\, La-Vill
 e-aux-Dames\, France;X-APPLE-RADIUS=100;X-TITLE=ES La Ville aux Dames TT:g
 eo:47.397626,0.7708
END:VEVENT
END:VCALENDAR