BEGIN:VCALENDAR
VERSION:2.0
PRODID:-//wp-events-plugin.com//7.2.3.1//EN
BEGIN:VEVENT
UID:15195@liguecentrett.com
DTSTART;VALUE=DATE:20240527
DTEND;VALUE=DATE:20240528
DTSTAMP:20240809T220432Z
URL:https://liguecentrett.com/events/passage-de-la-flamme-le-blanc-la-chat
 re-chateauroux/
SUMMARY:Passage de la flamme Le Blanc - La Châtre - Châteauroux
DESCRIPTION:[su_tabs]\n\n[/su_tab]\n\n[su_tab title="Informations"]\n\nTout
 es les informations ici\n\nJouez pour gagner des places aux JOP\n\n\n\n&nb
 sp\;\n\nhttps://sport-centrevaldeloire.fr/actualites/la-flamme-olympique-a
 rrive-a-grands-pas-en-centre-val-de-loire/\n\n[/su_tab]\n\n[su_tab title="
 Photos"]\n\nLe Blanc\n\n\n\n\n\nLa Châtre\n\n\n\n\n\nChâteauroux\n\n  \n
 \n&nbsp\;\n\n[/su_tab]\n[/su_tabs]
END:VEVENT
END:VCALENDAR