BEGIN:VCALENDAR
VERSION:2.0
PRODID:-//wp-events-plugin.com//7.2.3.1//EN
BEGIN:VEVENT
UID:15039@liguecentrett.com
DTSTART:20240525T140000Z
DTEND:20240525T173000Z
DTSTAMP:20240422T085101Z
URL:https://liguecentrett.com/events/olympiehpad-4s-tours/
SUMMARY:OlympiEHPAD 4S Tours
DESCRIPTION:\n\n&nbsp\;\n\nInscriptions\n\nPrésentation OlympiEHPADs\n\n&
 nbsp\;\n\nLe projet :\n- 64 résident(e)s d'EHPAD du territoire se rencont
 rent autour de jeux pongistes d'habileté et de précision.\n- Encadrés 
 par Laëtitia REFFET\, éducatrice du club\, qui travaille déjà avec l'E
 HPAD Korian Le Plessis de La Riche\, et de nombreux bénévoles\, notammen
 t des jeunes pour permettre une inclusion totale de l'évènement.\n- A la
  fin\, remise de récompense\, démonstration\, goûter.\n\nObjectif : inc
 lusion par le sport de résidents des EHPAD en milieu sportif\, inclusion 
 des jeunes dans un évènement à destination des personnes âgées\, conv
 ivialité et participation à un évènement au parfum d'olympisme (respec
 t\, amitié\, excellence).\n\nNous avons le plaisir de convier 64 athlèt
 es des EHPAD du département pour disputer cette première édition de la
  coupe départementale de EHPAD (nommée OlympiEHPAD cette année). Je vou
 s laisse faire\, à l'image d'un DTN\, votre sélection en interne.\nEt no
 us nous répartirons les sélectionné(e)s en fonction des disponibilités
  et des réponses de chacun.\n\n64 résidents peut paraître peu à l'éch
 elle du département\, mais nous souhaitons organiser un évènement de qu
 alité et en toute sécurité\, d'où le chiffre avancé.
CATEGORIES:Manifestation externe
LOCATION:4S Tours TT\, 54 rue Saint Francois\, Tours\, 37000\, France
GEO:47.3816435;0.6664290999999594
X-APPLE-STRUCTURED-LOCATION;VALUE=URI;X-ADDRESS=54 rue Saint Francois\, Tou
 rs\, 37000\, France;X-APPLE-RADIUS=100;X-TITLE=4S Tours TT:geo:47.3816435,
 0.6664290999999594
END:VEVENT
END:VCALENDAR