BEGIN:VCALENDAR
VERSION:2.0
PRODID:-//wp-events-plugin.com//7.2.3.1//EN
BEGIN:VEVENT
UID:15331@liguecentrett.com
DTSTART:20250829T103000Z
DTEND:20250829T103000Z
DTSTAMP:20250827T151524Z
URL:https://liguecentrett.com/events/obseques-jean-marc-guimont/
SUMMARY:Obseques Jean-Marc Guimont
DESCRIPTION:\nLe Tennis de Table est de nouveau en deuil et à perdu un de 
 ses serviteurs. Mr GUIMONT Jean-Marc\, licencié\, Dirigeant\, arbitre\, j
 uge-arbitre et Président du club de l'AMO.Mer TT pendant plusieurs décen
 nies\, nous a quittés.\n\nLes obsèques auront lieu le vendredi 29 Août 
 à l'Eglise Saint Hilaire à Mer.\n\nLa famille souhaite limiter les fleur
 s.\n\nPour les personnes qui souhaitent faire un don\, qu'elles soient ou 
 non présentes\, peuvent le faire en cliquant sur le lien suivant :\n\nDON
  OBSEQUES JEAN-MARC GUIMONT\n(Date limite du don le Jeudi 28 Août à 2025
  à minuit)\n\nLes dons seront ensuite reversés au club de l'AMO.Mer TT\,
  sa 2ème famille !\n\nNous sommes tous aux côtés de l' AMO.Mer TT\, de 
 sa famille et vous remercions pour votre générosité\n\nSimon Bruno\nVic
 e-Président de la Ligue Centre Val de Loire Tennis de Table\n\nhttps://ww
 w.lanouvellerepublique.fr/loir-et-cher/commune/mer/tennis-de-table-jean-ma
 rc-guimont-une-figure-du-sport-merois-s-en-est-alle-1756052661\n\n    \n
 \n
ATTACH;FMTTYPE=image/jpeg:https://liguecentrett.com/wp-content/uploads/202
 0/11/Nécrologie.png
CATEGORIES:Actualités
END:VEVENT
END:VCALENDAR