BEGIN:VCALENDAR
VERSION:2.0
PRODID:-//wp-events-plugin.com//7.2.3.1//EN
BEGIN:VEVENT
UID:14758@liguecentrett.com
DTSTART;VALUE=DATE:20250515
DTEND;VALUE=DATE:20250627
DTSTAMP:20250627T102322Z
URL:https://liguecentrett.com/events/mutations-2025-2026/
SUMMARY:Mutations 2025-2026
DESCRIPTION:voir page dédié
CATEGORIES:Actualités
END:VEVENT
END:VCALENDAR