BEGIN:VCALENDAR
VERSION:2.0
PRODID:-//wp-events-plugin.com//7.2.3.1//EN
BEGIN:VEVENT
UID:15276@liguecentrett.com
DTSTART:20250629T100000Z
DTEND:20250629T180000Z
DTSTAMP:20250627T111655Z
URL:https://liguecentrett.com/events/mouille-ton-maillot-pays-courvillois/
SUMMARY:Mouille ton maillot avec Pays Courvillois
DESCRIPTION:\n\n&nbsp\;\n\nTous concernés\, tous mobilisés\, au profit de
 s enfants malades et hospitalisés\, parce que l'on est tous forcément se
 nsible et solidaire. Cette aventure MC ULTRA TEAM entre dans l'ADN de notr
 e association et s'adresse à toutes/tous\, sportifs/ves ou pas\, en péda
 lant\, en courant\, en marchant\, vous aurez le choix. Des parcours access
 ibles au plus grand nombre\, du partage\, de la bonne action\, des surpris
 es... pour que cette fête soit belle\, alors pas d'excuse\, RDV à COURVI
 LLE le 29/06/25.\n\n&nbsp\;\n\n\n\n&nbsp\;\n\nVenez participer à l'étape
  3 - été ping en fête avec :\n\n 	1 ou plusieurs défis (1 défi recurr
 ent sur la journée)\, 1 défi spécifique par catégorie de participants 
 (jeunes\, femmes\, familles….) : - concours de chamboul’Ping - Renvoi 
 de balles du robot - Vitesse au radar - …\n\n&nbsp\;\n\n 	1 demonstratio
 n avec de bons joueurs locaux dont 1 femme : - demonstration technique et 
 sportive (échanges\, panier de balles\, match exhibition) - jeu avec le p
 ublic - défis des champions\n\n&nbsp\;\n\n 	1 tournoi en Extérieur : - T
 ournoi individuel et/ou par équipes - doubles - Tournoi pour les licenci
 és et non-licenciés - invitation à participer à une étape finale\n
ATTACH;FMTTYPE=image/jpeg:https://liguecentrett.com/wp-content/uploads/202
 5/06/croppedimage-19627f2964784b7d80352e34d893c17f.png
CATEGORIES:Manifestation externe
END:VEVENT
END:VCALENDAR