BEGIN:VCALENDAR
VERSION:2.0
PRODID:-//wp-events-plugin.com//7.2.3.1//EN
BEGIN:VEVENT
UID:15354@liguecentrett.com
DTSTART;VALUE=DATE:20251025
DTEND;VALUE=DATE:20251026
DTSTAMP:20251008T185318Z
URL:https://liguecentrett.com/events/master-handisport-st-marceau-orleans/
SUMMARY:Master handisport St Marceau Orléans
DESCRIPTION:
ATTACH;FMTTYPE=image/jpeg:https://liguecentrett.com/wp-content/uploads/202
 5/10/MASTER.jpg
CATEGORIES:Compétitions
END:VEVENT
END:VCALENDAR