BEGIN:VCALENDAR
VERSION:2.0
PRODID:-//wp-events-plugin.com//7.2.3.1//EN
BEGIN:VEVENT
UID:14997@liguecentrett.com
DTSTART:20231211T183000Z
DTEND:20231211T200000Z
DTSTAMP:20231129T210909Z
URL:https://liguecentrett.com/events/lessentiel-sur-le-mecenat/
SUMMARY:L’essentiel sur le mécénat
DESCRIPTION:Lien d'inscription
ATTACH;FMTTYPE=image/jpeg:https://liguecentrett.com/wp-content/uploads/202
 3/11/Webinaire-FFTT-ligue.png
CATEGORIES:Formations Dirigeants
END:VEVENT
END:VCALENDAR