BEGIN:VCALENDAR
VERSION:2.0
PRODID:-//wp-events-plugin.com//7.2.3.1//EN
BEGIN:VEVENT
UID:15277@liguecentrett.com
DTSTART;VALUE=DATE:20250705
DTEND;VALUE=DATE:20250720
DTSTAMP:20250701T224026Z
URL:https://liguecentrett.com/events/les-estivales-de-lamotte-beuvron/
SUMMARY:Les estivales de Lamotte-Beuvron
DESCRIPTION:\n\nRDV à l'esplanade des soeurs Tatin\, avenue de la républi
 que 41600 Lamotte-Beuvron participer à l'étape 4 - été ping en fête a
 vec :\n\nle 5 juillet de 11h à 19h pour réaliser des défis\, voir une d
 émonstration ou participer au tournoi extérieur\n\ndu 6 au 18 juillet po
 ur venir jouer librement\n\nle 9 juillet de 14h à 18h pour découvrir le 
 ping en réalité virtuelle\n\nle 19 juillet de 9h à 17h pour réaliser d
 es défis\, voir une démonstration ou participer au tournoi extérieur\n\
 n  \n\n&nbsp\;\n\nLien vers l'application\n\n\n\n&nbsp\;
ATTACH;FMTTYPE=image/jpeg:https://liguecentrett.com/wp-content/uploads/202
 5/06/visuel-lamotte-beuvron-web_page-0001.jpg
CATEGORIES:Manifestation externe
END:VEVENT
END:VCALENDAR