BEGIN:VCALENDAR
VERSION:2.0
PRODID:-//wp-events-plugin.com//7.2.3.1//EN
BEGIN:VEVENT
UID:14855@liguecentrett.com
DTSTART;VALUE=DATE:20230319
DTEND;VALUE=DATE:20230320
DTSTAMP:20230323T105956Z
URL:https://liguecentrett.com/events/le-tt-joue-remporte-leurope-trophy-20
 22-2023/
SUMMARY:Le TT Joué remporte l'Europe Trophy 2022-2023
DESCRIPTION:\nLe TT Joué rentre dans l'histoire et remporte l'Europe Troph
 y 2022-2023\, invaincu pendant ces 2 jours à Mirandela.\n\n\nLe TT Joué 
 avait remporté auparavant en Novembre dernier le tour de groupe Region\, 
 avec aussi Margaux et Héloïse\n\n\nBravo à Audrey\, Lili\, Nolwenn\, Cl
 émence\, accompagnés d'Hugo &amp\; Claude.\n\n\nLa galerie photos venant
  du Portugal :\n#NousSommesTTJ\n\n\n 
ATTACH;FMTTYPE=image/jpeg:https://liguecentrett.com/wp-content/uploads/202
 3/03/336770846_1145813566066102_8300084852801920485_n.jpeg
CATEGORIES:Compétitions
END:VEVENT
END:VCALENDAR