BEGIN:VCALENDAR
VERSION:2.0
PRODID:-//wp-events-plugin.com//7.2.3.1//EN
BEGIN:VEVENT
UID:14994@liguecentrett.com
DTSTART;VALUE=DATE:20231120
DTEND;VALUE=DATE:20240106
DTSTAMP:20240116T132836Z
URL:https://liguecentrett.com/events/le-ping-cest-trop-la-classe-campagne-
 de-financement-participatif/
SUMMARY:"Le ping\, c'est trop la classe !" : Campagne de financement partic
 ipatif !
DESCRIPTION:&nbsp\;\n\n[su_tab title="Vidéol"]\n\n[su_youtube url="https:/
 /www.youtube.com/watch?v=E0NFLvcPp8c"]\n\n[/su_tab]\n\n[su_tab title="Lien
 "]\nContribuer ICI\n&nbsp\;\n\n&nbsp\;\n\n\n\n[su_tab title="Résultats"]\
 n\n68 contributeurs : 6460€ obtenus dont 2000€ de la région\, 240€ 
 de la banque populaire-caisse d'épargne et le crédit mutuel\, 4220 de co
 ntributeurs.\n\n[/su_tab]\n\n[su_tabs]
ATTACH;FMTTYPE=image/jpeg:https://liguecentrett.com/wp-content/uploads/202
 3/11/metaslider.png
CATEGORIES:Actualités
END:VEVENT
END:VCALENDAR