BEGIN:VCALENDAR
VERSION:2.0
PRODID:-//wp-events-plugin.com//7.2.3.1//EN
BEGIN:VEVENT
UID:15366@liguecentrett.com
DTSTART;VALUE=DATE:20251212
DTEND;VALUE=DATE:20251213
DTSTAMP:20251212T151302Z
URL:https://liguecentrett.com/events/le-credit-mutuel-partenaire-de-ligue/
SUMMARY:Le crédit mutuel\, partenaire de ligue !
DESCRIPTION:Dans la continuité du partenariat avec la FFTT\, la Ligue Cent
 re-Val de Loire est fier d'établir un nouveau partenariat avec le crédit
  mutuel\, 1ère banque à mission.\n\nLes deux organismes vont s'investir 
 pour offrir des tables aux établissements médico-sociaux et accompagner 
 le développement du centre de performance.
ATTACH;FMTTYPE=image/jpeg:https://liguecentrett.com/wp-content/uploads/202
 5/12/credit-mutuel.png
END:VEVENT
END:VCALENDAR