BEGIN:VCALENDAR
VERSION:2.0
PRODID:-//wp-events-plugin.com//7.2.3.1//EN
BEGIN:VEVENT
UID:15009@liguecentrett.com
DTSTART;VALUE=DATE:20231225
DTEND;VALUE=DATE:20231226
DTSTAMP:20231225T100642Z
URL:https://liguecentrett.com/events/la-ligue-offre-du-materiel-a-lusep/
SUMMARY:La ligue offre du matériel à l'USEP
DESCRIPTION:\n\n&nbsp\;\n\n&nbsp\;\n\nLe père noël a exaucé les voeux de
  la Ligue Centre-Val de Loire TT. Il a offert un kit composé de filets ro
 ll net\, raquettes et balles pour que chaque USEP départemental puisse r
 éaliser plus facilement des initiations scolaires
CATEGORIES:Manifestation externe
LOCATION:Ligue Centre-Val de Loire TT\, 40 rue du Général Leclerc\, Salbr
 is\, France
GEO:47.420209;2.043381
X-APPLE-STRUCTURED-LOCATION;VALUE=URI;X-ADDRESS=40 rue du Général Leclerc
 \, Salbris\, France;X-APPLE-RADIUS=100;X-TITLE=Ligue Centre-Val de Loire T
 T:geo:47.420209,2.043381
END:VEVENT
END:VCALENDAR