BEGIN:VCALENDAR
VERSION:2.0
PRODID:-//wp-events-plugin.com//7.2.3.1//EN
BEGIN:VEVENT
UID:15344@liguecentrett.com
DTSTART:20251111T083000Z
DTEND:20251111T183000Z
DTSTAMP:20251008T150916Z
URL:https://liguecentrett.com/events/juge-arbitre-45-2025/
SUMMARY:Juge Arbitre – 45 – 2025
DESCRIPTION:&gt\; Toutes les informations sur les formations &lt\;\n&nbsp\;
 \n
CATEGORIES:Formations,Formations arbitres
LOCATION:Comité du Loiret de Tennis de Table\, 1240 Rue de la Bergeresse\,
  Olivet\, France
GEO:47.845825;1.916448
X-APPLE-STRUCTURED-LOCATION;VALUE=URI;X-ADDRESS=1240 Rue de la Bergeresse\,
  Olivet\, France;X-APPLE-RADIUS=100;X-TITLE=Comité du Loiret de Tennis de
  Table:geo:47.845825,1.916448
END:VEVENT
END:VCALENDAR