BEGIN:VCALENDAR
VERSION:2.0
PRODID:-//wp-events-plugin.com//7.2.3.1//EN
BEGIN:VEVENT
UID:15345@liguecentrett.com
DTSTART:20251102T083000Z
DTEND:20251102T183000Z
DTSTAMP:20251008T152207Z
URL:https://liguecentrett.com/events/juge-arbitre-18-2025/
SUMMARY:Juge Arbitre – 18 – 2025
DESCRIPTION:&gt\; Toutes les informations sur les formations &lt\;\n&nbsp\;
 \n
CATEGORIES:Formations,Formations arbitres
END:VEVENT
END:VCALENDAR