BEGIN:VCALENDAR
VERSION:2.0
PRODID:-//wp-events-plugin.com//7.2.3.1//EN
BEGIN:VEVENT
UID:15208@liguecentrett.com
DTSTART:20241110T083000Z
DTEND:20241110T183000Z
DTSTAMP:20241008T202056Z
URL:https://liguecentrett.com/events/juge-arbitre-18-2024/
SUMMARY:Juge Arbitre – 18 – 2024
DESCRIPTION:&nbsp\;\nJe m'inscris
CATEGORIES:Formations,Formations arbitres
LOCATION:CJM Bourges TT\, 135 Rue de Turly\, Bourges\, France
GEO:47.100025;2.419944
X-APPLE-STRUCTURED-LOCATION;VALUE=URI;X-ADDRESS=135 Rue de Turly\, Bourges\
 , France;X-APPLE-RADIUS=100;X-TITLE=CJM Bourges TT:geo:47.100025,2.419944
END:VEVENT
END:VCALENDAR